BEGIN:VCALENDAR
VERSION:2.0
PRODID:-//Great River Ontario Health Team - ECPv6.15.20//NONSGML v1.0//EN
CALSCALE:GREGORIAN
METHOD:PUBLISH
X-WR-CALNAME:Great River Ontario Health Team
X-ORIGINAL-URL:https://groht.ca
X-WR-CALDESC:Events for Great River Ontario Health Team
REFRESH-INTERVAL;VALUE=DURATION:PT1H
X-Robots-Tag:noindex
X-PUBLISHED-TTL:PT1H
BEGIN:VTIMEZONE
TZID:America/New_York
BEGIN:DAYLIGHT
TZOFFSETFROM:-0500
TZOFFSETTO:-0400
TZNAME:EDT
DTSTART:20240310T070000
END:DAYLIGHT
BEGIN:STANDARD
TZOFFSETFROM:-0400
TZOFFSETTO:-0500
TZNAME:EST
DTSTART:20241103T060000
END:STANDARD
BEGIN:DAYLIGHT
TZOFFSETFROM:-0500
TZOFFSETTO:-0400
TZNAME:EDT
DTSTART:20250309T070000
END:DAYLIGHT
BEGIN:STANDARD
TZOFFSETFROM:-0400
TZOFFSETTO:-0500
TZNAME:EST
DTSTART:20251102T060000
END:STANDARD
BEGIN:DAYLIGHT
TZOFFSETFROM:-0500
TZOFFSETTO:-0400
TZNAME:EDT
DTSTART:20260308T070000
END:DAYLIGHT
BEGIN:STANDARD
TZOFFSETFROM:-0400
TZOFFSETTO:-0500
TZNAME:EST
DTSTART:20261101T060000
END:STANDARD
BEGIN:DAYLIGHT
TZOFFSETFROM:-0500
TZOFFSETTO:-0400
TZNAME:EDT
DTSTART:20270314T070000
END:DAYLIGHT
BEGIN:STANDARD
TZOFFSETFROM:-0400
TZOFFSETTO:-0500
TZNAME:EST
DTSTART:20271107T060000
END:STANDARD
END:VTIMEZONE
BEGIN:VEVENT
DTSTART;VALUE=DATE:20251021
DTEND;VALUE=DATE:20260701
DTSTAMP:20260423T100741
CREATED:20251021T184024Z
LAST-MODIFIED:20260130T162126Z
UID:3895-1761004800-1782863999@groht.ca
SUMMARY:Navigation Resource
DESCRIPTION:The Great River Ontario Health Team (GR OHT) has developed a Navigation Services Pathways resource to help community members connect more easily with local supports. \nThis resource is here to guide individuals\, caregivers\, and care providers in finding the right health and social services. \nThe resource is organized around key themes:\n📞 Crisis Lines\n🤝 General Supports\n🏥 Health\n🧠 Mental Health & Substance Use\n👶 Children & Youth\n👵 Seniors & Disabilities \nAccess and download your copy today:\n👉 English: https://groht.ca/navigation/\n👉 Français: https://esogf.ca/navigation/ \nTogether\, let’s make it easier for everyone to access the care and supports they need. 💙🌐
URL:https://groht.ca/event/new-resource-alert/
CATEGORIES:News
ATTACH;FMTTYPE=image/jpeg:https://groht.ca/wp-content/uploads/2025/10/Navigation.jpg
END:VEVENT
BEGIN:VEVENT
DTSTART;VALUE=DATE:20260306
DTEND;VALUE=DATE:20270101
DTSTAMP:20260423T100741
CREATED:20260306T161222Z
LAST-MODIFIED:20260306T161222Z
UID:4093-1772755200-1798761599@groht.ca
SUMMARY:Health Care Connect: The First Step to Getting a Family Doctor or Nurse Practitioner in Your Community
DESCRIPTION:The Great River Ontario Health Team is encouraging residents across the region to take the first step toward accessing a family doctor or nurse practitioner by registering with Health Care Connect\, Ontario’s provincial program that helps people find a primary care provider in their community. \nBeing connected to a primary care provider ensures: \n\nComprehensive\, long-term\, high-quality care\nHealth promotion and disease prevention\nAccess to disease screening and early detection programs\nOngoing management of chronic conditions to improve quality of life\n\nRegistering is easy and won’t affect your existing care. Residents no longer need to unregister from their current provider. By registering\, Health Care Connect can identify those seeking care closer to home and help plan for local community needs. \nHOW TO REGISTER: \n\nOnline: ontario.ca/healthcareconnect\nBy phone: call 1-800-445-1822\nThrough Health811: call 811\n\nOntario is taking steps to ensure people and their families have access to high-quality care closer to home for generations to come. Ontario’s Primary Care Action Plan will connect two million more people to a publicly funded family physician\, nurse practitioner or primary care team by 2029\, achieving the government’s goal of connecting everyone in the province to primary care. \nThis spring\, the Great River Ontario Health Team will be out in the community helping people register. Follow us on social media (Facebook\, Instagram or LinkedIn) to find out where a member of the team will be available to assist you. \nThe Great River Ontario Health Team thanks residents for their patience and encourages everyone without a primary care provider in our region to take this important first step today. \nLearn more and register: ontario.ca/healthcareconnect
URL:https://groht.ca/event/health-care-connect-the-first-step-to-getting-a-family-doctor-or-nurse-practitioner-in-your-community/
CATEGORIES:News
ATTACH;FMTTYPE=image/jpeg:https://groht.ca/wp-content/uploads/2026/03/HCC-Image.jpg
END:VEVENT
BEGIN:VEVENT
DTSTART;VALUE=DATE:20260318
DTEND;VALUE=DATE:20260426
DTSTAMP:20260423T100741
CREATED:20260318T175854Z
LAST-MODIFIED:20260318T181729Z
UID:4108-1773792000-1777161599@groht.ca
SUMMARY:NEW! Navigation Webinar Series
DESCRIPTION:The Social Development Council SDGCA continues to host the Community Spotlight Series\, an initiative that highlights programs and services supporting individuals and families across our region. \nThis year\, the series is expanding through a new partnership with the Great River Ontario Health Team (GR OHT) to introduce a Navigation Webinar Series focused on improving how individuals\, families\, and service providers find and access health\, social\, and community supports across the region. \nEach Spotlight typically includes a brief overview of the organization\, who they support\, and how individuals and service providers can access or refer to their services. \nThese sessions help strengthen collaboration across sectors\, increase awareness of available resources\, and support more coordinated service navigation across our communities. \nUpcoming Community Spotlights\nFriday\, April 10 | 10:00 AM\nDrake International\nDrake International is a global recruitment and workforce solutions company that supports employers and job seekers through staffing\, recruitment\, and career development services. Their Cornwall office works with local businesses and individuals to connect talent with employment opportunities across multiple sectors. \nNEW! Navigation Webinar Series\nPresented in partnership with the Great River Ontario Health Team (GR OHT):\nFriday\, April 17 | 10:00 AM\nCommunity Navigation of Eastern Ontario (CNEO) | 211\nCommunity Navigation of Eastern Ontario helps individuals and service providers find and connect with health\, social\, and community services across the region. Through tools such as 211\, they provide information\, referrals\, and navigation support to help people access the right services when they need them. \nFriday\, April 24 | 10:00 AM\nGlengarry Inter-Agency Group | Youth In Transition Program\nThe Youth In Transition Program supports youth and young adults as they move toward greater independence by connecting them with housing supports\, life-skills development\, and community resources that help them transition successfully into adulthood. \nRegistration link: forms.gle/U2m3HYM8E9nE3Q81A 
URL:https://groht.ca/event/new-navigation-webinar-series/
CATEGORIES:Events
ATTACH;FMTTYPE=image/jpeg:https://groht.ca/wp-content/uploads/2026/03/Spotlight.jpg
END:VEVENT
END:VCALENDAR